BEGIN:VCALENDAR
VERSION:2.0
BEGIN:VEVENT
DTSTART;TZID=Europe/Stockholm:20260606T100000
DTEND;TZID=Europe/Stockholm:20260606T110000
DTSTAMP:20260419T175632
DESCRIPTION:Välkommen till vårt café. Öppet 10-14
lunch, fika, specialkaffe
SEQUENCE:0
SUMMARY:Kaffe & Böner
UID:5422@lawebb.se
END:VEVENT
END:VCALENDAR