BEGIN:VCALENDAR
VERSION:2.0
BEGIN:VEVENT
DTSTART;TZID=Europe/Stockholm:20260524T170000
DTEND;TZID=Europe/Stockholm:20260524T180000
DTSTAMP:20260419T163224
DESCRIPTION:Välkommen att fira gudstjänst med oss. Enkel kvällsmat efteråt.
SEQUENCE:0
SUMMARY:Gudstjänst
UID:4657@lawebb.se
END:VEVENT
END:VCALENDAR