BEGIN:VCALENDAR
VERSION:2.0
BEGIN:VEVENT
DTSTART;TZID=Europe/Stockholm:20260514T110000
DTEND;TZID=Europe/Stockholm:20260514T120000
DTSTAMP:20260419T162639
DESCRIPTION:Välkommen till vårt café. Öppet 11-17
lunch, fika, specialkaffe
SEQUENCE:0
SUMMARY:Kaffe & Böner
UID:7363@lawebb.se
END:VEVENT
END:VCALENDAR