BEGIN:VCALENDAR
VERSION:2.0
BEGIN:VEVENT
DTSTART;TZID=Europe/Stockholm:20251220T160000
DTEND;TZID=Europe/Stockholm:20251220T170000
DTSTAMP:20260419T141416
DESCRIPTION:Vi åker tillsammans för att att sjunga in julen i Gullbrannakyrkan. Kontakta pastor Sara för samåkning
SEQUENCE:0
SUMMARY:Vi sjunger in julen i Gullbranna
UID:2787@lawebb.se
END:VEVENT
END:VCALENDAR