BEGIN:VCALENDAR
VERSION:2.0
BEGIN:VEVENT
DTSTART;TZID=Europe/Stockholm:20251212T110000
DTEND;TZID=Europe/Stockholm:20251212T120000
DTSTAMP:20260419T141417
DESCRIPTION:Välkommen till vårt café. Öppet 11-16
lunch, fika, specialkaffe
SEQUENCE:0
SUMMARY:Kaffe & Böner
UID:5644@lawebb.se
END:VEVENT
END:VCALENDAR