BEGIN:VCALENDAR
VERSION:2.0
BEGIN:VEVENT
DTSTART;TZID=Europe/Stockholm:20251210T183000
DTEND;TZID=Europe/Stockholm:20251210T193000
DTSTAMP:20260419T141512
DESCRIPTION:i Missionshuset
SEQUENCE:0
SUMMARY:Bön & lovsång
UID:7268@lawebb.se
END:VEVENT
END:VCALENDAR