BEGIN:VCALENDAR
VERSION:2.0
BEGIN:VEVENT
DTSTART;TZID=Europe/Stockholm:20251206T100000
DTEND;TZID=Europe/Stockholm:20251206T110000
DTSTAMP:20260419T141417
DESCRIPTION:Välkommen till vårt café. Öppet 10-14
lunch, fika, specialkaffe
livemusik från 11.00
SEQUENCE:0
SUMMARY:Kaffe & Böner
UID:7985@lawebb.se
END:VEVENT
END:VCALENDAR