BEGIN:VCALENDAR
VERSION:2.0
BEGIN:VEVENT
DTSTART;TZID=Europe/Stockholm:20251203T183000
DTEND;TZID=Europe/Stockholm:20251203T193000
DTSTAMP:20260419T141207
DESCRIPTION:i Missionshuset
SEQUENCE:0
SUMMARY:Bön & lovsång
UID:3585@lawebb.se
END:VEVENT
END:VCALENDAR