BEGIN:VCALENDAR
VERSION:2.0
BEGIN:VEVENT
DTSTART;TZID=Europe/Stockholm:20251130T140000
DTEND;TZID=Europe/Stockholm:20251130T150000
DTSTAMP:20260419T154207
DESCRIPTION:Julskyltning och öppet på Kaffe&Böner
vi firar 4 år! 
17.00 Adventsandakt
SEQUENCE:0
SUMMARY:Advents-öppet Kaffe&Böner
UID:8549@lawebb.se
END:VEVENT
END:VCALENDAR