BEGIN:VCALENDAR
VERSION:2.0
BEGIN:VEVENT
DTSTART;TZID=Europe/Stockholm:20251123T100000
DTEND;TZID=Europe/Stockholm:20251123T110000
DTSTAMP:20260419T154244
DESCRIPTION:Vi åker tillsammans för att att fira Gudstjänst i Gullbrannakyrkan. Kontakta pastor Sara för samåkning
SEQUENCE:0
SUMMARY:Gudstjänst i Gullbranna
UID:4376@lawebb.se
END:VEVENT
END:VCALENDAR