BEGIN:VCALENDAR
VERSION:2.0
BEGIN:VEVENT
DTSTART;TZID=Europe/Stockholm:20251122T100000
DTEND;TZID=Europe/Stockholm:20251122T110000
DTSTAMP:20260419T153633
DESCRIPTION:Välkommen till vårt café. Öppet 10-14
lunch, fika, specialkaffe
livemusik från 11.00
SEQUENCE:0
SUMMARY:Kaffe & Böner
UID:5329@lawebb.se
END:VEVENT
END:VCALENDAR