BEGIN:VCALENDAR
VERSION:2.0
BEGIN:VEVENT
DTSTART;TZID=Europe/Stockholm:20251120T183000
DTEND;TZID=Europe/Stockholm:20251120T193000
DTSTAMP:20260419T154323
DESCRIPTION:Missionsledare Ulf Häggkvist med kollegor besöker lokala församlingar för att prata vision, församling i förändring och SAMs strategi för kommande år.
Anmälan
SEQUENCE:0
SUMMARY:SAM Församling i förändring
UID:9998@lawebb.se
END:VEVENT
END:VCALENDAR