BEGIN:VCALENDAR
VERSION:2.0
BEGIN:VEVENT
DTSTART;TZID=Europe/Stockholm:20251120T110000
DTEND;TZID=Europe/Stockholm:20251120T120000
DTSTAMP:20260419T154055
DESCRIPTION:Välkommen till vårt café. Öppet 11-17
lunch, fika, specialkaffe
SEQUENCE:0
SUMMARY:Kaffe & Böner
UID:9285@lawebb.se
END:VEVENT
END:VCALENDAR