BEGIN:VCALENDAR
VERSION:2.0
BEGIN:VEVENT
DTSTART;TZID=Europe/Stockholm:20251119T183000
DTEND;TZID=Europe/Stockholm:20251119T193000
DTSTAMP:20260419T153846
DESCRIPTION:i Missionshuset
SEQUENCE:0
SUMMARY:Bön & lovsång
UID:6792@lawebb.se
END:VEVENT
END:VCALENDAR