BEGIN:VCALENDAR
VERSION:2.0
BEGIN:VEVENT
DTSTART;TZID=Europe/Stockholm:20251114T110000
DTEND;TZID=Europe/Stockholm:20251114T120000
DTSTAMP:20260419T153851
DESCRIPTION:Välkommen till vårt café. Öppet 11-16
lunch, fika, specialkaffe
SEQUENCE:0
SUMMARY:Kaffe & Böner
UID:7294@lawebb.se
END:VEVENT
END:VCALENDAR