BEGIN:VCALENDAR
VERSION:2.0
BEGIN:VEVENT
DTSTART;TZID=Europe/Stockholm:20251112T183000
DTEND;TZID=Europe/Stockholm:20251112T193000
DTSTAMP:20260419T153933
DESCRIPTION:i Missionshuset
SEQUENCE:0
SUMMARY:Bön & lovsång
UID:8776@lawebb.se
END:VEVENT
END:VCALENDAR