BEGIN:VCALENDAR
VERSION:2.0
BEGIN:VEVENT
DTSTART;TZID=Europe/Stockholm:20251109T170000
DTEND;TZID=Europe/Stockholm:20251109T180000
DTSTAMP:20260419T154152
DESCRIPTION:Välkommen på gudstjänst i Missionshuset. Enkel kvällsmat efteråt
SEQUENCE:0
SUMMARY:Gudstjänst
UID:8999@lawebb.se
END:VEVENT
END:VCALENDAR