BEGIN:VCALENDAR
VERSION:2.0
BEGIN:VEVENT
DTSTART;TZID=Europe/Stockholm:20251107T110000
DTEND;TZID=Europe/Stockholm:20251107T120000
DTSTAMP:20260419T153735
DESCRIPTION:Välkommen till vårt café. Öppet 11-16
lunch, fika, specialkaffe
SEQUENCE:0
SUMMARY:Kaffe & Böner
UID:6253@lawebb.se
END:VEVENT
END:VCALENDAR