BEGIN:VCALENDAR
VERSION:2.0
BEGIN:VEVENT
DTSTART;TZID=Europe/Stockholm:20251106T180000
DTEND;TZID=Europe/Stockholm:20251106T190000
DTSTAMP:20260419T153438
DESCRIPTION:Välkommen till en kväll där vi sjunger gamla härliga läsarsånger tillsammans under ledning av Roger Nyman
SEQUENCE:0
SUMMARY:Läsarsångskväll
UID:6775@lawebb.se
END:VEVENT
END:VCALENDAR