BEGIN:VCALENDAR
VERSION:2.0
BEGIN:VEVENT
DTSTART;TZID=Europe/Stockholm:20251031T110000
DTEND;TZID=Europe/Stockholm:20251031T120000
DTSTAMP:20260419T165941
DESCRIPTION:Välkommen till vårt café. Öppet 11-16
lunch, fika, specialkaffe
SEQUENCE:0
SUMMARY:Kaffe & Böner
UID:4378@lawebb.se
END:VEVENT
END:VCALENDAR