BEGIN:VCALENDAR
VERSION:2.0
BEGIN:VEVENT
DTSTART;TZID=Europe/Stockholm:20251029T183000
DTEND;TZID=Europe/Stockholm:20251029T193000
DTSTAMP:20260419T170735
DESCRIPTION:i Missionshuset
SEQUENCE:0
SUMMARY:Bön & lovsång
UID:4458@lawebb.se
END:VEVENT
END:VCALENDAR