BEGIN:VCALENDAR
VERSION:2.0
BEGIN:VEVENT
DTSTART;TZID=Europe/Stockholm:20251026T100000
DTEND;TZID=Europe/Stockholm:20251026T110000
DTSTAMP:20260419T170135
DESCRIPTION:Vi åker tillsammans för att att fira Gudstjänst i Gullbrannakyrkan. Kontakta pastor Sara för samåkning
SEQUENCE:0
SUMMARY:Gudstjänst i Gullbranna
UID:6225@lawebb.se
END:VEVENT
END:VCALENDAR