BEGIN:VCALENDAR
VERSION:2.0
BEGIN:VEVENT
DTSTART;TZID=Europe/Stockholm:20251024T110000
DTEND;TZID=Europe/Stockholm:20251024T120000
DTSTAMP:20260419T170007
DESCRIPTION:Välkommen till vårt café. Öppet 11-16
lunch, fika, specialkaffe
SEQUENCE:0
SUMMARY:Kaffe & Böner
UID:8296@lawebb.se
END:VEVENT
END:VCALENDAR