BEGIN:VCALENDAR
VERSION:2.0
BEGIN:VEVENT
DTSTART;TZID=Europe/Stockholm:20251023T110000
DTEND;TZID=Europe/Stockholm:20251023T120000
DTSTAMP:20260419T170545
DESCRIPTION:Välkommen till vårt café. Öppet 11-17
lunch, fika, specialkaffe
SEQUENCE:0
SUMMARY:Kaffe & Böner
UID:7777@lawebb.se
END:VEVENT
END:VCALENDAR