BEGIN:VCALENDAR
VERSION:2.0
BEGIN:VEVENT
DTSTART;TZID=Europe/Stockholm:20251022T183000
DTEND;TZID=Europe/Stockholm:20251022T193000
DTSTAMP:20260419T170752
DESCRIPTION:i Missionshuset
SEQUENCE:0
SUMMARY:Bön & lovsång
UID:5866@lawebb.se
END:VEVENT
END:VCALENDAR