BEGIN:VCALENDAR
VERSION:2.0
BEGIN:VEVENT
DTSTART;TZID=Europe/Stockholm:20251008T183000
DTEND;TZID=Europe/Stockholm:20251008T193000
DTSTAMP:20260419T170459
DESCRIPTION:i Missionshuset
SEQUENCE:0
SUMMARY:Bön & lovsång
UID:9829@lawebb.se
END:VEVENT
END:VCALENDAR