BEGIN:VCALENDAR
VERSION:2.0
BEGIN:VEVENT
DTSTART;TZID=Europe/Stockholm:20251004T100000
DTEND;TZID=Europe/Stockholm:20251004T110000
DTSTAMP:20260419T171028
DESCRIPTION:Välkommen till vårt café. Öppet 10-14
lunch, fika, specialkaffe
Live-musik
SEQUENCE:0
SUMMARY:Kaffe & Böner
UID:6583@lawebb.se
END:VEVENT
END:VCALENDAR