BEGIN:VCALENDAR
VERSION:2.0
BEGIN:VEVENT
DTSTART;TZID=Europe/Stockholm:20250928T100000
DTEND;TZID=Europe/Stockholm:20250928T110000
DTSTAMP:20260419T183831
DESCRIPTION:Vi åker tillsammans för att att fira Gudstjänst i Gullbrannakyrkan. Kontakta pastor Sara för samåkning.
SEQUENCE:0
SUMMARY:Gudstjänst i Gullbranna
UID:8348@lawebb.se
END:VEVENT
END:VCALENDAR