BEGIN:VCALENDAR
VERSION:2.0
BEGIN:VEVENT
DTSTART;TZID=Europe/Stockholm:20250924T183000
DTEND;TZID=Europe/Stockholm:20250924T193000
DTSTAMP:20260419T183208
DESCRIPTION:i Missionshuset
SEQUENCE:0
SUMMARY:Bön & lovsång
UID:2256@lawebb.se
END:VEVENT
END:VCALENDAR