BEGIN:VCALENDAR
VERSION:2.0
BEGIN:VEVENT
DTSTART;TZID=Europe/Stockholm:20250918T110000
DTEND;TZID=Europe/Stockholm:20250918T120000
DTSTAMP:20260419T183830
DESCRIPTION:Välkommen till vårt café. Öppet 11-17
lunch, fika, specialkaffe
SEQUENCE:0
SUMMARY:Kaffe & Böner
UID:6287@lawebb.se
END:VEVENT
END:VCALENDAR