BEGIN:VCALENDAR
VERSION:2.0
BEGIN:VEVENT
DTSTART;TZID=Europe/Stockholm:20250911T110000
DTEND;TZID=Europe/Stockholm:20250911T120000
DTSTAMP:20260419T183501
DESCRIPTION:Välkommen till vårt café. Öppet 11-17
lunch, fika, specialkaffe
SEQUENCE:0
SUMMARY:Kaffe & Böner
UID:7373@lawebb.se
END:VEVENT
END:VCALENDAR