BEGIN:VCALENDAR
VERSION:2.0
BEGIN:VEVENT
DTSTART;TZID=Europe/Stockholm:20250910T183000
DTEND;TZID=Europe/Stockholm:20250910T193000
DTSTAMP:20260419T183953
DESCRIPTION:i Missionshuset
SEQUENCE:0
SUMMARY:Bön & lovsång
UID:5642@lawebb.se
END:VEVENT
END:VCALENDAR