BEGIN:VCALENDAR
VERSION:2.0
BEGIN:VEVENT
DTSTART;TZID=Europe/Stockholm:20250906T100000
DTEND;TZID=Europe/Stockholm:20250906T110000
DTSTAMP:20260419T183651
DESCRIPTION:Välkommen till vårt café. Öppet 10-14
lunch, fika, specialkaffe
Livemusik
SEQUENCE:0
SUMMARY:Kaffe & Böner
UID:8334@lawebb.se
END:VEVENT
END:VCALENDAR