BEGIN:VCALENDAR
VERSION:2.0
BEGIN:VEVENT
DTSTART;TZID=Europe/Stockholm:20250903T183000
DTEND;TZID=Europe/Stockholm:20250903T193000
DTSTAMP:20260419T183533
DESCRIPTION:i Missionshuset
SEQUENCE:0
SUMMARY:Bön & lovsång
UID:3535@lawebb.se
END:VEVENT
END:VCALENDAR