BEGIN:VCALENDAR
VERSION:2.0
BEGIN:VEVENT
DTSTART;TZID=Europe/Stockholm:20250827T183000
DTEND;TZID=Europe/Stockholm:20250827T193000
DTSTAMP:20260419T201412
DESCRIPTION:i Missionshuset
SEQUENCE:0
SUMMARY:Bön & lovsång
UID:6878@lawebb.se
END:VEVENT
END:VCALENDAR