BEGIN:VCALENDAR
VERSION:2.0
BEGIN:VEVENT
DTSTART;TZID=Europe/Stockholm:20250820T183000
DTEND;TZID=Europe/Stockholm:20250820T193000
DTSTAMP:20260419T201556
DESCRIPTION:i Missionshuset
SEQUENCE:0
SUMMARY:Bön & lovsång
UID:5658@lawebb.se
END:VEVENT
END:VCALENDAR