BEGIN:VCALENDAR
VERSION:2.0
BEGIN:VEVENT
DTSTART;TZID=Europe/Stockholm:20250817T150000
DTEND;TZID=Europe/Stockholm:20250817T160000
DTSTAMP:20260419T201434
DESCRIPTION:Församlingsmöte med framtidssamtal och inriktning
Fika innan vi startar
Välkommen att vara med du som vill finnas med i Missionshuset framöver!
SEQUENCE:0
SUMMARY:Församlingsmöte
UID:8867@lawebb.se
END:VEVENT
END:VCALENDAR