BEGIN:VCALENDAR
VERSION:2.0
BEGIN:VEVENT
DTSTART;TZID=Europe/Stockholm:20250804T180000
DTEND;TZID=Europe/Stockholm:20250804T190000
DTSTAMP:20260419T201433
DESCRIPTION:Grillkväll hos Kenneth.  
Kontakta sara@missionshuset.se för adress
Ta med eget att grilla
SEQUENCE:0
SUMMARY:Grillkväll
UID:6842@lawebb.se
END:VEVENT
END:VCALENDAR