BEGIN:VCALENDAR
VERSION:2.0
BEGIN:VEVENT
DTSTART;TZID=Europe/Stockholm:20250714T180000
DTEND;TZID=Europe/Stockholm:20250714T190000
DTSTAMP:20260419T215255
DESCRIPTION:Grillkväll i missionshuset 
Ta med eget att grilla
SEQUENCE:0
SUMMARY:Grillkväll
UID:6744@lawebb.se
END:VEVENT
END:VCALENDAR