BEGIN:VCALENDAR
VERSION:2.0
BEGIN:VEVENT
DTSTART;TZID=Europe/Stockholm:20250623T180000
DTEND;TZID=Europe/Stockholm:20250623T190000
DTSTAMP:20260419T232300
DESCRIPTION:Grillkväll hos Tryggve o Cina 
Kontakta sara@missionshuset.se för adress
Ta med eget att grilla
SEQUENCE:0
SUMMARY:Grillkväll
UID:8299@lawebb.se
END:VEVENT
END:VCALENDAR