BEGIN:VCALENDAR
VERSION:2.0
BEGIN:VEVENT
DTSTART;TZID=Europe/Stockholm:20250608T170000
DTEND;TZID=Europe/Stockholm:20250608T180000
DTSTAMP:20260419T232233
DESCRIPTION:med upptäckande bibelsamtal,
kvällsmat efteråt
SEQUENCE:0
SUMMARY:Gudstjänst
UID:2234@lawebb.se
END:VEVENT
END:VCALENDAR