BEGIN:VCALENDAR
VERSION:2.0
BEGIN:VEVENT
DTSTART;TZID=Europe/Stockholm:20250511T170000
DTEND;TZID=Europe/Stockholm:20250511T180000
DTSTAMP:20260420T005649
DESCRIPTION:med upptäckande bibelsamtal,
kvällsmat efteråt
SEQUENCE:0
SUMMARY:Gudstjänst
UID:2689@lawebb.se
END:VEVENT
END:VCALENDAR