BEGIN:VCALENDAR
VERSION:2.0
BEGIN:VEVENT
DTSTART;TZID=Europe/Stockholm:20250418T180000
DTEND;TZID=Europe/Stockholm:20250418T190000
DTSTAMP:20260420T024020
DESCRIPTION:Åleds pizzeria står på vår parkering 
vi möts 18-20 för pizza o gemenskap
(Var och en köper sin egen pizza)
20.00 film i missionshuset
SEQUENCE:0
SUMMARY:påskgemenskap
UID:4259@lawebb.se
END:VEVENT
END:VCALENDAR