BEGIN:VCALENDAR
VERSION:2.0
BEGIN:VEVENT
DTSTART;TZID=Europe/Stockholm:20250417T183000
DTEND;TZID=Europe/Stockholm:20250417T193000
DTSTAMP:20260420T024245
DESCRIPTION:Andakt med nattvard
SEQUENCE:0
SUMMARY:Getsemanestund
UID:7443@lawebb.se
END:VEVENT
END:VCALENDAR