BEGIN:VCALENDAR
VERSION:2.0
BEGIN:VEVENT
DTSTART;TZID=Europe/Stockholm:20250330T170000
DTEND;TZID=Europe/Stockholm:20250330T180000
DTSTAMP:20260420T042328
DESCRIPTION:med upptäckande bibelsamtal,
kvällsmat efteråt
SEQUENCE:0
SUMMARY:Gudstjänst
UID:7348@lawebb.se
END:VEVENT
END:VCALENDAR