BEGIN:VCALENDAR
VERSION:2.0
BEGIN:VEVENT
DTSTART;TZID=Europe/Stockholm:20250302T170000
DTEND;TZID=Europe/Stockholm:20250302T180000
DTSTAMP:20260420T041636
DESCRIPTION:med upptäckande bibelsamtal,
kvällsmat efteråt
SEQUENCE:0
SUMMARY:Gudstjänst
UID:5672@lawebb.se
END:VEVENT
END:VCALENDAR