BEGIN:VCALENDAR
VERSION:2.0
BEGIN:VEVENT
DTSTART;TZID=Europe/Stockholm:20250226T183000
DTEND;TZID=Europe/Stockholm:20250226T193000
DTSTAMP:20260420T054216
DESCRIPTION:Nu är det dags för församlingens årsmöte. 
Välkommen.
SEQUENCE:0
SUMMARY:Årsmöte
UID:4937@lawebb.se
END:VEVENT
END:VCALENDAR