BEGIN:VCALENDAR
VERSION:2.0
BEGIN:VEVENT
DTSTART;TZID=Europe/Stockholm:20250216T170000
DTEND;TZID=Europe/Stockholm:20250216T180000
DTSTAMP:20260420T054103
DESCRIPTION:med upptäckande bibelsamtal,
kvällsmat efteråt
SEQUENCE:0
SUMMARY:Gudstjänst
UID:9496@lawebb.se
END:VEVENT
END:VCALENDAR