BEGIN:VCALENDAR
VERSION:2.0
BEGIN:VEVENT
DTSTART;TZID=Europe/Stockholm:20250209T180000
DTEND;TZID=Europe/Stockholm:20250209T190000
DTSTAMP:20260420T054712
DESCRIPTION:Kom och lyssna på en härlig gospelkonsert i St Clemens kyrka. 
Vill du vara med och sjunga? Anmäl dig till sara@missionshuset.se
SEQUENCE:0
SUMMARY:Gospelfest
UID:3559@lawebb.se
END:VEVENT
END:VCALENDAR