BEGIN:VCALENDAR
VERSION:2.0
BEGIN:VEVENT
DTSTART;TZID=Europe/Stockholm:20250205T180000
DTEND;TZID=Europe/Stockholm:20250205T190000
DTSTAMP:20260420T054927
DESCRIPTION:obs. start kl 18.00
SEQUENCE:0
SUMMARY:Bön & lovsång
UID:2859@lawebb.se
END:VEVENT
END:VCALENDAR